BEGIN:VCALENDAR
VERSION:2.0
PRODID:spatie/icalendar-generator
DESCRIPTION:Events from Marcus Hook\, PA
X-WR-CALDESC:Events from Marcus Hook\, PA
REFRESH-INTERVAL;VALUE=DURATION:PT1440M
X-PUBLISHED-TTL:PT1440M
BEGIN:VTIMEZONE
TZID:America/New_York
BEGIN:DAYLIGHT
DTSTART:20250309T020000Z
TZOFFSETFROM:-0500
TZOFFSETTO:-0400
END:DAYLIGHT
BEGIN:STANDARD
DTSTART:20251102T020000Z
TZOFFSETFROM:-0400
TZOFFSETTO:-0500
END:STANDARD
BEGIN:DAYLIGHT
DTSTART:20260308T020000Z
TZOFFSETFROM:-0500
TZOFFSETTO:-0400
END:DAYLIGHT
END:VTIMEZONE
BEGIN:VTIMEZONE
TZID:UTC
BEGIN:STANDARD
DTSTART:20250726T084736Z
TZOFFSETFROM:+0000
TZOFFSETTO:+0000
END:STANDARD
END:VTIMEZONE
BEGIN:VEVENT
UID:719-28
DTSTAMP:20260422T084736Z
SUMMARY:Officer Appearance-Trading Cards-Pfc. Dalrymple-(Maxi's Bar)
LOCATION:Curt Weldon Community Center 7 W Delaware Ave  Marcus Hook PA 1906
 1
ORGANIZER;CN=Danielle O'Fria:MAILTO:dofria@goesi.com
DTSTART;TZID=America/New_York:20251107T160000
DTEND;TZID=America/New_York:20251107T170000
X-ALT-DESC;FMTTYPE=TEXT/HTML:
CATEGORIES:General
URL;VALUE=URI:https://marcushookboro.org/mc-events/officer-appearance-tradi
 ng-cards-pfc-dalrymple-maxis-bar/
METHOD:PUBLISH
END:VEVENT
END:VCALENDAR